BEGIN:VCALENDAR
VERSION:2.0
PRODID:-//Sylvan Lake Apostolic Lutheran Church - ECPv6.15.17//NONSGML v1.0//EN
CALSCALE:GREGORIAN
METHOD:PUBLISH
X-WR-CALNAME:Sylvan Lake Apostolic Lutheran Church
X-ORIGINAL-URL:https://www.sylvanlakealc.org
X-WR-CALDESC:Events for Sylvan Lake Apostolic Lutheran Church
REFRESH-INTERVAL;VALUE=DURATION:PT1H
X-Robots-Tag:noindex
X-PUBLISHED-TTL:PT1H
BEGIN:VTIMEZONE
TZID:America/Edmonton
BEGIN:DAYLIGHT
TZOFFSETFROM:-0700
TZOFFSETTO:-0600
TZNAME:MDT
DTSTART:20240310T090000
END:DAYLIGHT
BEGIN:STANDARD
TZOFFSETFROM:-0600
TZOFFSETTO:-0700
TZNAME:MST
DTSTART:20241103T080000
END:STANDARD
BEGIN:DAYLIGHT
TZOFFSETFROM:-0700
TZOFFSETTO:-0600
TZNAME:MDT
DTSTART:20250309T090000
END:DAYLIGHT
BEGIN:STANDARD
TZOFFSETFROM:-0600
TZOFFSETTO:-0700
TZNAME:MST
DTSTART:20251102T080000
END:STANDARD
BEGIN:DAYLIGHT
TZOFFSETFROM:-0700
TZOFFSETTO:-0600
TZNAME:MDT
DTSTART:20260308T090000
END:DAYLIGHT
BEGIN:STANDARD
TZOFFSETFROM:-0600
TZOFFSETTO:-0700
TZNAME:MST
DTSTART:20261101T080000
END:STANDARD
END:VTIMEZONE
BEGIN:VEVENT
DTSTART;VALUE=DATE:20251111
DTEND;VALUE=DATE:20251112
DTSTAMP:20260422T161929
CREATED:20251110T022225Z
LAST-MODIFIED:20251110T022225Z
UID:7328-1762819200-1762905599@www.sylvanlakealc.org
SUMMARY:Remembrance Day
DESCRIPTION:
URL:https://www.sylvanlakealc.org/event/remembrance-day/
END:VEVENT
BEGIN:VEVENT
DTSTART;TZID=America/Edmonton:20251102T140000
DTEND;TZID=America/Edmonton:20251102T150000
DTSTAMP:20260422T161929
CREATED:20250912T190640Z
LAST-MODIFIED:20250912T190720Z
UID:7191-1762092000-1762095600@www.sylvanlakealc.org
SUMMARY:Bethany Service with Stephen Wuori
DESCRIPTION:
URL:https://www.sylvanlakealc.org/event/bethany-service-with-stephen-wuori-2/
LOCATION:Bethany\, 4700 47 Ave\, Sylvan Lake\, Alberta\, T4S 2M3\, Canada
END:VEVENT
BEGIN:VEVENT
DTSTART;VALUE=DATE:20251102
DTEND;VALUE=DATE:20251103
DTSTAMP:20260422T161929
CREATED:20251024T225131Z
LAST-MODIFIED:20251024T225131Z
UID:7262-1762041600-1762127999@www.sylvanlakealc.org
SUMMARY:Standard Time Begins
DESCRIPTION:
URL:https://www.sylvanlakealc.org/event/standard-time-begins/
END:VEVENT
END:VCALENDAR