BEGIN:VCALENDAR
VERSION:2.0
PRODID:-//Sylvan Lake Apostolic Lutheran Church - ECPv6.15.17//NONSGML v1.0//EN
CALSCALE:GREGORIAN
METHOD:PUBLISH
X-ORIGINAL-URL:https://www.sylvanlakealc.org
X-WR-CALDESC:Events for Sylvan Lake Apostolic Lutheran Church
REFRESH-INTERVAL;VALUE=DURATION:PT1H
X-Robots-Tag:noindex
X-PUBLISHED-TTL:PT1H
BEGIN:VTIMEZONE
TZID:America/Edmonton
BEGIN:DAYLIGHT
TZOFFSETFROM:-0700
TZOFFSETTO:-0600
TZNAME:MDT
DTSTART:20250309T090000
END:DAYLIGHT
BEGIN:STANDARD
TZOFFSETFROM:-0600
TZOFFSETTO:-0700
TZNAME:MST
DTSTART:20251102T080000
END:STANDARD
BEGIN:DAYLIGHT
TZOFFSETFROM:-0700
TZOFFSETTO:-0600
TZNAME:MDT
DTSTART:20260308T090000
END:DAYLIGHT
BEGIN:STANDARD
TZOFFSETFROM:-0600
TZOFFSETTO:-0700
TZNAME:MST
DTSTART:20261101T080000
END:STANDARD
BEGIN:DAYLIGHT
TZOFFSETFROM:-0700
TZOFFSETTO:-0600
TZNAME:MDT
DTSTART:20270314T090000
END:DAYLIGHT
BEGIN:STANDARD
TZOFFSETFROM:-0600
TZOFFSETTO:-0700
TZNAME:MST
DTSTART:20271107T080000
END:STANDARD
END:VTIMEZONE
BEGIN:VEVENT
DTSTART;TZID=America/Edmonton:20260313T190000
DTEND;TZID=America/Edmonton:20260313T200000
DTSTAMP:20260422T163904
CREATED:20250912T193928Z
LAST-MODIFIED:20260119T020357Z
UID:7220-1773428400-1773432000@www.sylvanlakealc.org
SUMMARY:Friday Bible Study
DESCRIPTION:
URL:https://www.sylvanlakealc.org/event/friday-bible-study-3/
LOCATION:Church
END:VEVENT
BEGIN:VEVENT
DTSTART;TZID=America/Edmonton:20260315T100000
DTEND;TZID=America/Edmonton:20260315T110000
DTSTAMP:20260422T163904
CREATED:20250912T193334Z
LAST-MODIFIED:20260119T011406Z
UID:7210-1773568800-1773572400@www.sylvanlakealc.org
SUMMARY:Sunday School and Bible Study
DESCRIPTION:
URL:https://www.sylvanlakealc.org/event/sunday-school-and-bible-study-3/
LOCATION:Church
END:VEVENT
BEGIN:VEVENT
DTSTART;TZID=America/Edmonton:20260315T110000
DTEND;TZID=America/Edmonton:20260315T120000
DTSTAMP:20260422T163904
CREATED:20250423T144447Z
LAST-MODIFIED:20260304T201328Z
UID:6935-1773572400-1773576000@www.sylvanlakealc.org
SUMMARY:Sunday Worship with Tom McCluskey
DESCRIPTION:
URL:https://www.sylvanlakealc.org/event/sunday-worship-with-11/
LOCATION:Church
END:VEVENT
BEGIN:VEVENT
DTSTART;TZID=America/Edmonton:20260320T190000
DTEND;TZID=America/Edmonton:20260320T200000
DTSTAMP:20260422T163904
CREATED:20251013T164308Z
LAST-MODIFIED:20260119T020517Z
UID:7250-1774033200-1774036800@www.sylvanlakealc.org
SUMMARY:Friday Bible Study
DESCRIPTION:
URL:https://www.sylvanlakealc.org/event/friday-bible-study-4/
LOCATION:Church
END:VEVENT
BEGIN:VEVENT
DTSTART;TZID=America/Edmonton:20260322T100000
DTEND;TZID=America/Edmonton:20260322T110000
DTSTAMP:20260422T163904
CREATED:20250912T193437Z
LAST-MODIFIED:20260119T011509Z
UID:7213-1774173600-1774177200@www.sylvanlakealc.org
SUMMARY:Sunday School and Bible Study
DESCRIPTION:
URL:https://www.sylvanlakealc.org/event/sunday-school-and-bible-study-4/
LOCATION:Church
END:VEVENT
BEGIN:VEVENT
DTSTART;TZID=America/Edmonton:20260322T110000
DTEND;TZID=America/Edmonton:20260322T120000
DTSTAMP:20260422T163904
CREATED:20250621T201026Z
LAST-MODIFIED:20260304T201522Z
UID:7066-1774177200-1774180800@www.sylvanlakealc.org
SUMMARY:Sunday worship with Dave Forsberg
DESCRIPTION:
URL:https://www.sylvanlakealc.org/event/sunday-worship-with-tom-mccluskey/
LOCATION:Church
END:VEVENT
BEGIN:VEVENT
DTSTART;TZID=America/Edmonton:20260322T123000
DTEND;TZID=America/Edmonton:20260322T150000
DTSTAMP:20260422T163904
CREATED:20260320T155931Z
LAST-MODIFIED:20260320T155931Z
UID:7588-1774182600-1774191600@www.sylvanlakealc.org
SUMMARY:PotLuck Lunch following the morning service
DESCRIPTION:
URL:https://www.sylvanlakealc.org/event/potluck-lunch-following-the-morning-service/
LOCATION:Church
END:VEVENT
BEGIN:VEVENT
DTSTART;TZID=America/Edmonton:20260327T190000
DTEND;TZID=America/Edmonton:20260327T200000
DTSTAMP:20260422T163904
CREATED:20250912T194120Z
LAST-MODIFIED:20260119T020653Z
UID:7225-1774638000-1774641600@www.sylvanlakealc.org
SUMMARY:Friday Bible Study
DESCRIPTION:
URL:https://www.sylvanlakealc.org/event/friday-bible-study-7/
LOCATION:Church
END:VEVENT
BEGIN:VEVENT
DTSTART;TZID=America/Edmonton:20260329T100000
DTEND;TZID=America/Edmonton:20260329T110000
DTSTAMP:20260422T163904
CREATED:20260119T012808Z
LAST-MODIFIED:20260119T012808Z
UID:7520-1774778400-1774782000@www.sylvanlakealc.org
SUMMARY:Sunday School and Bible Study
DESCRIPTION:
URL:https://www.sylvanlakealc.org/event/sunday-school-and-bible-study-14/
END:VEVENT
BEGIN:VEVENT
DTSTART;TZID=America/Edmonton:20260329T110000
DTEND;TZID=America/Edmonton:20260329T120000
DTSTAMP:20260422T163904
CREATED:20250423T144103Z
LAST-MODIFIED:20260304T201901Z
UID:6929-1774782000-1774785600@www.sylvanlakealc.org
SUMMARY:Sunday Worship with Misha Krupinov
DESCRIPTION:
URL:https://www.sylvanlakealc.org/event/sunday-worship-with/
LOCATION:Church
END:VEVENT
BEGIN:VEVENT
DTSTART;VALUE=DATE:20260403
DTEND;VALUE=DATE:20260404
DTSTAMP:20260422T163904
CREATED:20260113T003947Z
LAST-MODIFIED:20260113T003947Z
UID:7482-1775174400-1775260799@www.sylvanlakealc.org
SUMMARY:Good Friday
DESCRIPTION:
URL:https://www.sylvanlakealc.org/event/good-friday/
END:VEVENT
BEGIN:VEVENT
DTSTART;TZID=America/Edmonton:20260403T190000
DTEND;TZID=America/Edmonton:20260403T200000
DTSTAMP:20260422T163904
CREATED:20260326T160157Z
LAST-MODIFIED:20260326T160359Z
UID:7605-1775242800-1775246400@www.sylvanlakealc.org
SUMMARY:Good Friday Evening service with Burton Farley
DESCRIPTION:Coffee and snacks will be offered following the service.
URL:https://www.sylvanlakealc.org/event/good-friday-evening-service-with-burton-farley/
LOCATION:Church
END:VEVENT
BEGIN:VEVENT
DTSTART;TZID=America/Edmonton:20260404T190000
DTEND;TZID=America/Edmonton:20260404T210000
DTSTAMP:20260422T163904
CREATED:20260326T160617Z
LAST-MODIFIED:20260326T160617Z
UID:7609-1775329200-1775336400@www.sylvanlakealc.org
SUMMARY:Youth Gathering at the church
DESCRIPTION:Coffee and food will be supplied by the parents
URL:https://www.sylvanlakealc.org/event/youth-gathering-at-the-church/
END:VEVENT
BEGIN:VEVENT
DTSTART;VALUE=DATE:20260405
DTEND;VALUE=DATE:20260406
DTSTAMP:20260422T163904
CREATED:20260113T004030Z
LAST-MODIFIED:20260113T004030Z
UID:7484-1775347200-1775433599@www.sylvanlakealc.org
SUMMARY:Easter Sunday
DESCRIPTION:
URL:https://www.sylvanlakealc.org/event/easter-sunday/
END:VEVENT
BEGIN:VEVENT
DTSTART;TZID=America/Edmonton:20260405T100000
DTEND;TZID=America/Edmonton:20260405T110000
DTSTAMP:20260422T163904
CREATED:20251024T225604Z
LAST-MODIFIED:20260320T160954Z
UID:7270-1775383200-1775386800@www.sylvanlakealc.org
SUMMARY:Sunday School and Bible Study
DESCRIPTION:
URL:https://www.sylvanlakealc.org/event/sunday-school-and-bible-study-17/
LOCATION:Church
END:VEVENT
BEGIN:VEVENT
DTSTART;TZID=America/Edmonton:20260405T110000
DTEND;TZID=America/Edmonton:20260405T120000
DTSTAMP:20260422T163904
CREATED:20260326T160830Z
LAST-MODIFIED:20260326T160830Z
UID:7612-1775386800-1775390400@www.sylvanlakealc.org
SUMMARY:Easter Sunday Service with Burton Farley
DESCRIPTION:
URL:https://www.sylvanlakealc.org/event/easter-sunday-service-with-burton-farley/
LOCATION:Church
END:VEVENT
BEGIN:VEVENT
DTSTART;TZID=America/Edmonton:20260405T123000
DTEND;TZID=America/Edmonton:20260405T140000
DTSTAMP:20260422T163904
CREATED:20260320T160738Z
LAST-MODIFIED:20260320T160738Z
UID:7591-1775392200-1775397600@www.sylvanlakealc.org
SUMMARY:PotLuck Lunch following the morning service
DESCRIPTION:
URL:https://www.sylvanlakealc.org/event/potluck-lunch-following-the-morning-service-2/
LOCATION:Church
END:VEVENT
BEGIN:VEVENT
DTSTART;TZID=America/Edmonton:20260405T140000
DTEND;TZID=America/Edmonton:20260405T143000
DTSTAMP:20260422T163904
CREATED:20260326T161000Z
LAST-MODIFIED:20260326T161000Z
UID:7614-1775397600-1775399400@www.sylvanlakealc.org
SUMMARY:Mission Presentation with Burton Farley
DESCRIPTION:
URL:https://www.sylvanlakealc.org/event/mission-presentation-with-burton-farley/
LOCATION:Church
END:VEVENT
BEGIN:VEVENT
DTSTART;TZID=America/Edmonton:20260405T140000
DTEND;TZID=America/Edmonton:20260405T150000
DTSTAMP:20260422T163904
CREATED:20260326T161556Z
LAST-MODIFIED:20260327T000635Z
UID:7621-1775397600-1775401200@www.sylvanlakealc.org
SUMMARY:Bethany Service with Tom McCluskey
DESCRIPTION:
URL:https://www.sylvanlakealc.org/event/bethany-service-with/
LOCATION:Bethany\, 4700 47 Ave\, Sylvan Lake\, Alberta\, T4S 2M3\, Canada
END:VEVENT
BEGIN:VEVENT
DTSTART;TZID=America/Edmonton:20260405T150000
DTEND;TZID=America/Edmonton:20260405T160000
DTSTAMP:20260422T163904
CREATED:20260326T161209Z
LAST-MODIFIED:20260326T161209Z
UID:7616-1775401200-1775404800@www.sylvanlakealc.org
SUMMARY:Easter Sunday Afternoon Service with Burton Farley
DESCRIPTION:
URL:https://www.sylvanlakealc.org/event/easter-sunday-afternoon-service-with-burton-farley/
LOCATION:Church
END:VEVENT
BEGIN:VEVENT
DTSTART;TZID=America/Edmonton:20260405T163000
DTEND;TZID=America/Edmonton:20260405T173000
DTSTAMP:20260422T163904
CREATED:20260326T161420Z
LAST-MODIFIED:20260326T161420Z
UID:7619-1775406600-1775410200@www.sylvanlakealc.org
SUMMARY:Afternoon Dessert after the second service
DESCRIPTION:
URL:https://www.sylvanlakealc.org/event/afternoon-dessert-after-the-second-service/
LOCATION:Church
END:VEVENT
BEGIN:VEVENT
DTSTART;TZID=America/Edmonton:20260406T180000
DTEND;TZID=America/Edmonton:20260406T200000
DTSTAMP:20260422T163904
CREATED:20260326T161848Z
LAST-MODIFIED:20260404T050151Z
UID:7623-1775498400-1775505600@www.sylvanlakealc.org
SUMMARY:Evening Bible Study with Burton Farley
DESCRIPTION:Coffee following Bible Study
URL:https://www.sylvanlakealc.org/event/evening-bible-study-with-burton-farley/
LOCATION:Church
END:VEVENT
BEGIN:VEVENT
DTSTART;TZID=America/Edmonton:20260410T190000
DTEND;TZID=America/Edmonton:20260410T200000
DTSTAMP:20260422T163904
CREATED:20251024T230814Z
LAST-MODIFIED:20260326T235928Z
UID:7284-1775847600-1775851200@www.sylvanlakealc.org
SUMMARY:Friday Bible Study
DESCRIPTION:
URL:https://www.sylvanlakealc.org/event/friday-bible-study-9/
LOCATION:Church
END:VEVENT
BEGIN:VEVENT
DTSTART;TZID=America/Edmonton:20260412T100000
DTEND;TZID=America/Edmonton:20260412T110000
DTSTAMP:20260422T163904
CREATED:20250912T193601Z
LAST-MODIFIED:20260320T161132Z
UID:7215-1775988000-1775991600@www.sylvanlakealc.org
SUMMARY:Sunday School and Bible Study
DESCRIPTION:
URL:https://www.sylvanlakealc.org/event/sunday-school-and-bible-study-5/
LOCATION:Church
END:VEVENT
BEGIN:VEVENT
DTSTART;TZID=America/Edmonton:20260412T110000
DTEND;TZID=America/Edmonton:20260412T120000
DTSTAMP:20260422T163904
CREATED:20250820T215652Z
LAST-MODIFIED:20260330T161043Z
UID:7135-1775991600-1775995200@www.sylvanlakealc.org
SUMMARY:Communion Sunday Worship with Tom McCluskey
DESCRIPTION:
URL:https://www.sylvanlakealc.org/event/sunday-worship-with-5/
LOCATION:Church
END:VEVENT
BEGIN:VEVENT
DTSTART;TZID=America/Edmonton:20260417T190000
DTEND;TZID=America/Edmonton:20260417T200000
DTSTAMP:20260422T163904
CREATED:20251024T230914Z
LAST-MODIFIED:20260327T000047Z
UID:7286-1776452400-1776456000@www.sylvanlakealc.org
SUMMARY:Friday Bible Study
DESCRIPTION:
URL:https://www.sylvanlakealc.org/event/friday-bible-study-13/
LOCATION:Church
END:VEVENT
BEGIN:VEVENT
DTSTART;TZID=America/Edmonton:20260419T100000
DTEND;TZID=America/Edmonton:20260419T110000
DTSTAMP:20260422T163904
CREATED:20251024T225509Z
LAST-MODIFIED:20260320T162511Z
UID:7268-1776592800-1776596400@www.sylvanlakealc.org
SUMMARY:Sunday School and Bible Study
DESCRIPTION:
URL:https://www.sylvanlakealc.org/event/sunday-school-and-bible-study-16/
LOCATION:Church
END:VEVENT
BEGIN:VEVENT
DTSTART;TZID=America/Edmonton:20260419T110000
DTEND;TZID=America/Edmonton:20260419T120000
DTSTAMP:20260422T163904
CREATED:20250912T192208Z
LAST-MODIFIED:20260417T032518Z
UID:7202-1776596400-1776600000@www.sylvanlakealc.org
SUMMARY:Sunday Service with Tom McCluskey
DESCRIPTION:
URL:https://www.sylvanlakealc.org/event/special-services-with-chuck-bylkas-2/
LOCATION:Church
END:VEVENT
BEGIN:VEVENT
DTSTART;TZID=America/Edmonton:20260424T190000
DTEND;TZID=America/Edmonton:20260424T200000
DTSTAMP:20260422T163904
CREATED:20251024T231023Z
LAST-MODIFIED:20260327T000243Z
UID:7288-1777057200-1777060800@www.sylvanlakealc.org
SUMMARY:Friday Bible Study
DESCRIPTION:
URL:https://www.sylvanlakealc.org/event/friday-bible-study-14/
LOCATION:Church
END:VEVENT
BEGIN:VEVENT
DTSTART;TZID=America/Edmonton:20260426T100000
DTEND;TZID=America/Edmonton:20260426T110000
DTSTAMP:20260422T163904
CREATED:20251024T225654Z
LAST-MODIFIED:20260320T162628Z
UID:7272-1777197600-1777201200@www.sylvanlakealc.org
SUMMARY:Sunday School and Bible Study
DESCRIPTION:
URL:https://www.sylvanlakealc.org/event/sunday-school-and-bible-study-18/
LOCATION:Church
END:VEVENT
END:VCALENDAR