BEGIN:VCALENDAR
VERSION:2.0
PRODID:-//Sylvan Lake Apostolic Lutheran Church - ECPv6.15.17//NONSGML v1.0//EN
CALSCALE:GREGORIAN
METHOD:PUBLISH
X-WR-CALNAME:Sylvan Lake Apostolic Lutheran Church
X-ORIGINAL-URL:https://www.sylvanlakealc.org
X-WR-CALDESC:Events for Sylvan Lake Apostolic Lutheran Church
REFRESH-INTERVAL;VALUE=DURATION:PT1H
X-Robots-Tag:noindex
X-PUBLISHED-TTL:PT1H
BEGIN:VTIMEZONE
TZID:America/Edmonton
BEGIN:DAYLIGHT
TZOFFSETFROM:-0700
TZOFFSETTO:-0600
TZNAME:MDT
DTSTART:20240310T090000
END:DAYLIGHT
BEGIN:STANDARD
TZOFFSETFROM:-0600
TZOFFSETTO:-0700
TZNAME:MST
DTSTART:20241103T080000
END:STANDARD
BEGIN:DAYLIGHT
TZOFFSETFROM:-0700
TZOFFSETTO:-0600
TZNAME:MDT
DTSTART:20250309T090000
END:DAYLIGHT
BEGIN:STANDARD
TZOFFSETFROM:-0600
TZOFFSETTO:-0700
TZNAME:MST
DTSTART:20251102T080000
END:STANDARD
BEGIN:DAYLIGHT
TZOFFSETFROM:-0700
TZOFFSETTO:-0600
TZNAME:MDT
DTSTART:20260308T090000
END:DAYLIGHT
BEGIN:STANDARD
TZOFFSETFROM:-0600
TZOFFSETTO:-0700
TZNAME:MST
DTSTART:20261101T080000
END:STANDARD
END:VTIMEZONE
BEGIN:VEVENT
DTSTART;TZID=America/Edmonton:20251207T093000
DTEND;TZID=America/Edmonton:20251207T110000
DTSTAMP:20260422T161855
CREATED:20251114T195937Z
LAST-MODIFIED:20251130T181220Z
UID:7344-1765099800-1765105200@www.sylvanlakealc.org
SUMMARY:Sunday School Rehearsal
DESCRIPTION:
URL:https://www.sylvanlakealc.org/event/sunday-school-and-bible-study-8/
LOCATION:Church
END:VEVENT
BEGIN:VEVENT
DTSTART;TZID=America/Edmonton:20251206T180000
DTEND;TZID=America/Edmonton:20251206T203000
DTSTAMP:20260422T161855
CREATED:20250119T001201Z
LAST-MODIFIED:20250119T001201Z
UID:6695-1765044000-1765053000@www.sylvanlakealc.org
SUMMARY:Church Christmas Supper
DESCRIPTION:
URL:https://www.sylvanlakealc.org/event/church-christmas-supper-2/
LOCATION:Church
END:VEVENT
BEGIN:VEVENT
DTSTART;VALUE=DATE:20251201
DTEND;VALUE=DATE:20251202
DTSTAMP:20260422T161855
CREATED:20251114T203811Z
LAST-MODIFIED:20251114T204701Z
UID:7371-1764547200-1764633599@www.sylvanlakealc.org
SUMMARY:Deadline for Nominations for Speakers\,Chairman\, Vice Chairman\, Treasurer\, Secretary\, Board members and Agenda items for the Annual Meeting
DESCRIPTION:Please make sure they have been submitted to any of the board members by today Dec 01 \nfor the annual meeting in January
URL:https://www.sylvanlakealc.org/event/deadline-for-nominations-for-speakerschairman-vice-chairman-treasurer-secretary-and-board-members/
LOCATION:Church
END:VEVENT
BEGIN:VEVENT
DTSTART;VALUE=DATE:20251127
DTEND;VALUE=DATE:20251128
DTSTAMP:20260422T161855
CREATED:20251024T231825Z
LAST-MODIFIED:20251024T231825Z
UID:7294-1764201600-1764287999@www.sylvanlakealc.org
SUMMARY:US Thanksgiving
DESCRIPTION:
URL:https://www.sylvanlakealc.org/event/us-thanksgiving/
END:VEVENT
BEGIN:VEVENT
DTSTART;VALUE=DATE:20251111
DTEND;VALUE=DATE:20251112
DTSTAMP:20260422T161855
CREATED:20251110T022225Z
LAST-MODIFIED:20251110T022225Z
UID:7328-1762819200-1762905599@www.sylvanlakealc.org
SUMMARY:Remembrance Day
DESCRIPTION:
URL:https://www.sylvanlakealc.org/event/remembrance-day/
END:VEVENT
BEGIN:VEVENT
DTSTART;TZID=America/Edmonton:20251102T140000
DTEND;TZID=America/Edmonton:20251102T150000
DTSTAMP:20260422T161855
CREATED:20250912T190640Z
LAST-MODIFIED:20250912T190720Z
UID:7191-1762092000-1762095600@www.sylvanlakealc.org
SUMMARY:Bethany Service with Stephen Wuori
DESCRIPTION:
URL:https://www.sylvanlakealc.org/event/bethany-service-with-stephen-wuori-2/
LOCATION:Bethany\, 4700 47 Ave\, Sylvan Lake\, Alberta\, T4S 2M3\, Canada
END:VEVENT
BEGIN:VEVENT
DTSTART;VALUE=DATE:20251102
DTEND;VALUE=DATE:20251103
DTSTAMP:20260422T161855
CREATED:20251024T225131Z
LAST-MODIFIED:20251024T225131Z
UID:7262-1762041600-1762127999@www.sylvanlakealc.org
SUMMARY:Standard Time Begins
DESCRIPTION:
URL:https://www.sylvanlakealc.org/event/standard-time-begins/
END:VEVENT
END:VCALENDAR