BEGIN:VCALENDAR
VERSION:2.0
PRODID:-//Sylvan Lake Apostolic Lutheran Church - ECPv6.15.17//NONSGML v1.0//EN
CALSCALE:GREGORIAN
METHOD:PUBLISH
X-WR-CALNAME:Sylvan Lake Apostolic Lutheran Church
X-ORIGINAL-URL:https://www.sylvanlakealc.org
X-WR-CALDESC:Events for Sylvan Lake Apostolic Lutheran Church
REFRESH-INTERVAL;VALUE=DURATION:PT1H
X-Robots-Tag:noindex
X-PUBLISHED-TTL:PT1H
BEGIN:VTIMEZONE
TZID:America/Edmonton
BEGIN:DAYLIGHT
TZOFFSETFROM:-0700
TZOFFSETTO:-0600
TZNAME:MDT
DTSTART:20240310T090000
END:DAYLIGHT
BEGIN:STANDARD
TZOFFSETFROM:-0600
TZOFFSETTO:-0700
TZNAME:MST
DTSTART:20241103T080000
END:STANDARD
BEGIN:DAYLIGHT
TZOFFSETFROM:-0700
TZOFFSETTO:-0600
TZNAME:MDT
DTSTART:20250309T090000
END:DAYLIGHT
BEGIN:STANDARD
TZOFFSETFROM:-0600
TZOFFSETTO:-0700
TZNAME:MST
DTSTART:20251102T080000
END:STANDARD
BEGIN:DAYLIGHT
TZOFFSETFROM:-0700
TZOFFSETTO:-0600
TZNAME:MDT
DTSTART:20260308T090000
END:DAYLIGHT
BEGIN:STANDARD
TZOFFSETFROM:-0600
TZOFFSETTO:-0700
TZNAME:MST
DTSTART:20261101T080000
END:STANDARD
BEGIN:DAYLIGHT
TZOFFSETFROM:-0700
TZOFFSETTO:-0600
TZNAME:MDT
DTSTART:20270314T090000
END:DAYLIGHT
BEGIN:STANDARD
TZOFFSETFROM:-0600
TZOFFSETTO:-0700
TZNAME:MST
DTSTART:20271107T080000
END:STANDARD
END:VTIMEZONE
BEGIN:VEVENT
DTSTART;TZID=America/Edmonton:20260308T123000
DTEND;TZID=America/Edmonton:20260308T160000
DTSTAMP:20260422T160758
CREATED:20250101T180956Z
LAST-MODIFIED:20260119T022218Z
UID:6666-1772973000-1772985600@www.sylvanlakealc.org
SUMMARY:Pot Luck Lunch after the morning service
DESCRIPTION:
URL:https://www.sylvanlakealc.org/event/pot-luck-lunch-after-the-morning-service-4/
LOCATION:Church
END:VEVENT
BEGIN:VEVENT
DTSTART;TZID=America/Edmonton:20260308T110000
DTEND;TZID=America/Edmonton:20260308T120000
DTSTAMP:20260422T160758
CREATED:20250218T202346Z
LAST-MODIFIED:20260304T200910Z
UID:6772-1772967600-1772971200@www.sylvanlakealc.org
SUMMARY:Service will be Streamed. Communion Conducted by Tom McCluskey
DESCRIPTION:
URL:https://www.sylvanlakealc.org/event/communion-sunday-worship/
END:VEVENT
BEGIN:VEVENT
DTSTART;TZID=America/Edmonton:20260308T100000
DTEND;TZID=America/Edmonton:20260308T110000
DTSTAMP:20260422T160758
CREATED:20250912T193657Z
LAST-MODIFIED:20260114T023246Z
UID:7217-1772964000-1772967600@www.sylvanlakealc.org
SUMMARY:Sunday School and Bible Study
DESCRIPTION:
URL:https://www.sylvanlakealc.org/event/sunday-school-and-bible-study-6/
LOCATION:Church
END:VEVENT
BEGIN:VEVENT
DTSTART;VALUE=DATE:20260308
DTEND;VALUE=DATE:20260309
DTSTAMP:20260422T160758
CREATED:20260113T010907Z
LAST-MODIFIED:20260113T010907Z
UID:7509-1772928000-1773014399@www.sylvanlakealc.org
SUMMARY:Daylight Saving Time Begins
DESCRIPTION:
URL:https://www.sylvanlakealc.org/event/daylight-saving-time-begins/
END:VEVENT
BEGIN:VEVENT
DTSTART;TZID=America/Edmonton:20260306T190000
DTEND;TZID=America/Edmonton:20260306T200000
DTSTAMP:20260422T160758
CREATED:20250820T220921Z
LAST-MODIFIED:20260119T020208Z
UID:7146-1772823600-1772827200@www.sylvanlakealc.org
SUMMARY:Friday Bible Study
DESCRIPTION:
URL:https://www.sylvanlakealc.org/event/friday-bible-study-2/
LOCATION:Church
END:VEVENT
BEGIN:VEVENT
DTSTART;TZID=America/Edmonton:20260301T110000
DTEND;TZID=America/Edmonton:20260301T120000
DTSTAMP:20260422T160758
CREATED:20250505T190535Z
LAST-MODIFIED:20260119T021110Z
UID:7005-1772362800-1772366400@www.sylvanlakealc.org
SUMMARY:Sunday worship with
DESCRIPTION:
URL:https://www.sylvanlakealc.org/event/sunday-worship-with-15/
LOCATION:Church
END:VEVENT
BEGIN:VEVENT
DTSTART;TZID=America/Edmonton:20260301T100000
DTEND;TZID=America/Edmonton:20260301T110000
DTSTAMP:20260422T160758
CREATED:20250820T215941Z
LAST-MODIFIED:20260114T023125Z
UID:7138-1772359200-1772362800@www.sylvanlakealc.org
SUMMARY:Sunday School and Bible Study
DESCRIPTION:
URL:https://www.sylvanlakealc.org/event/sunday-school-and-bible-study/
LOCATION:Church
END:VEVENT
BEGIN:VEVENT
DTSTART;TZID=America/Edmonton:20260227T190000
DTEND;TZID=America/Edmonton:20260227T200000
DTSTAMP:20260422T160758
CREATED:20250912T194021Z
LAST-MODIFIED:20260113T011529Z
UID:7223-1772218800-1772222400@www.sylvanlakealc.org
SUMMARY:Friday Bible Study
DESCRIPTION:
URL:https://www.sylvanlakealc.org/event/friday-bible-study-6/
LOCATION:Church
END:VEVENT
BEGIN:VEVENT
DTSTART;TZID=America/Edmonton:20260222T143000
DTEND;TZID=America/Edmonton:20260222T170000
DTSTAMP:20260422T160758
CREATED:20260212T043439Z
LAST-MODIFIED:20260212T043439Z
UID:7551-1771770600-1771779600@www.sylvanlakealc.org
SUMMARY:Open House Pie Social
DESCRIPTION:
URL:https://www.sylvanlakealc.org/event/open-house-pie-social/
LOCATION:Church
END:VEVENT
BEGIN:VEVENT
DTSTART;TZID=America/Edmonton:20260222T110000
DTEND;TZID=America/Edmonton:20260222T120000
DTSTAMP:20260422T160758
CREATED:20260113T002937Z
LAST-MODIFIED:20260128T181733Z
UID:7477-1771758000-1771761600@www.sylvanlakealc.org
SUMMARY:Sunday Worship with Tom McCluskey
DESCRIPTION:
URL:https://www.sylvanlakealc.org/event/sunday-worship-with-9/
LOCATION:Church
END:VEVENT
BEGIN:VEVENT
DTSTART;TZID=America/Edmonton:20260222T100000
DTEND;TZID=America/Edmonton:20260222T110000
DTSTAMP:20260422T160758
CREATED:20250505T184652Z
LAST-MODIFIED:20260113T003632Z
UID:6988-1771754400-1771758000@www.sylvanlakealc.org
SUMMARY:Sunday School and Bible Study
DESCRIPTION:
URL:https://www.sylvanlakealc.org/event/sunday-school-and-bible-study-12/
LOCATION:Church
END:VEVENT
BEGIN:VEVENT
DTSTART;TZID=America/Edmonton:20260220T190000
DTEND;TZID=America/Edmonton:20260220T200000
DTSTAMP:20260422T160758
CREATED:20250820T220831Z
LAST-MODIFIED:20260113T011423Z
UID:7143-1771614000-1771617600@www.sylvanlakealc.org
SUMMARY:Friday Bible Study
DESCRIPTION:
URL:https://www.sylvanlakealc.org/event/friday-bible-study/
LOCATION:Church
END:VEVENT
BEGIN:VEVENT
DTSTART;VALUE=DATE:20260216
DTEND;VALUE=DATE:20260217
DTSTAMP:20260422T160758
CREATED:20260113T003844Z
LAST-MODIFIED:20260113T003844Z
UID:7479-1771200000-1771286399@www.sylvanlakealc.org
SUMMARY:Family Day
DESCRIPTION:
URL:https://www.sylvanlakealc.org/event/family-day/
END:VEVENT
BEGIN:VEVENT
DTSTART;TZID=America/Edmonton:20260215T110000
DTEND;TZID=America/Edmonton:20260215T120000
DTSTAMP:20260422T160758
CREATED:20250701T012225Z
LAST-MODIFIED:20260128T181617Z
UID:7094-1771153200-1771156800@www.sylvanlakealc.org
SUMMARY:Sunday Worship with Jordan Staudinger
DESCRIPTION:
URL:https://www.sylvanlakealc.org/event/sunday-worship-with-16/
LOCATION:Church
END:VEVENT
BEGIN:VEVENT
DTSTART;TZID=America/Edmonton:20260215T100000
DTEND;TZID=America/Edmonton:20260215T110000
DTSTAMP:20260422T160758
CREATED:20250505T184803Z
LAST-MODIFIED:20260113T003534Z
UID:6990-1771149600-1771153200@www.sylvanlakealc.org
SUMMARY:Sunday School and Bible Study
DESCRIPTION:
URL:https://www.sylvanlakealc.org/event/sunday-school-and-bible-study-13/
LOCATION:Church
END:VEVENT
BEGIN:VEVENT
DTSTART;TZID=America/Edmonton:20260208T123000
DTEND;TZID=America/Edmonton:20260208T143000
DTSTAMP:20260422T160758
CREATED:20250311T175449Z
LAST-MODIFIED:20260113T002546Z
UID:6856-1770553800-1770561000@www.sylvanlakealc.org
SUMMARY:Pot Luck Lunch after the morning service
DESCRIPTION:
URL:https://www.sylvanlakealc.org/event/pot-luck-lunch-after-the-morning-service-5/
LOCATION:Church
END:VEVENT
BEGIN:VEVENT
DTSTART;TZID=America/Edmonton:20260208T110000
DTEND;TZID=America/Edmonton:20260208T120000
DTSTAMP:20260422T160758
CREATED:20250311T182751Z
LAST-MODIFIED:20260128T182003Z
UID:6878-1770548400-1770552000@www.sylvanlakealc.org
SUMMARY:Communion Sunday Worship with Tom McCluskey
DESCRIPTION:
URL:https://www.sylvanlakealc.org/event/communion-sunday-worship-2/
END:VEVENT
BEGIN:VEVENT
DTSTART;TZID=America/Edmonton:20260208T100000
DTEND;TZID=America/Edmonton:20260208T230000
DTSTAMP:20260422T160758
CREATED:20260112T185411Z
LAST-MODIFIED:20260112T185432Z
UID:7475-1770544800-1770591600@www.sylvanlakealc.org
SUMMARY:Sunday School and Bible Study
DESCRIPTION:
URL:https://www.sylvanlakealc.org/event/sunday-school-and-bible-study-10/
LOCATION:Church
END:VEVENT
BEGIN:VEVENT
DTSTART;TZID=America/Edmonton:20260201T110000
DTEND;TZID=America/Edmonton:20260201T120000
DTSTAMP:20260422T160758
CREATED:20250701T011927Z
LAST-MODIFIED:20260201T190832Z
UID:7092-1769943600-1769947200@www.sylvanlakealc.org
SUMMARY:Sunday Worship with Neil Hilman
DESCRIPTION:
URL:https://www.sylvanlakealc.org/event/sunday-worship-with-12/
END:VEVENT
BEGIN:VEVENT
DTSTART;TZID=America/Edmonton:20260125T110000
DTEND;TZID=America/Edmonton:20260125T120000
DTSTAMP:20260422T160758
CREATED:20251114T195428Z
LAST-MODIFIED:20260113T052616Z
UID:7340-1769338800-1769342400@www.sylvanlakealc.org
SUMMARY:Sunday worship with Tom McCluskey
DESCRIPTION:
URL:https://www.sylvanlakealc.org/event/sunday-worship-with-2/
LOCATION:Church
END:VEVENT
BEGIN:VEVENT
DTSTART;TZID=America/Edmonton:20260123T190000
DTEND;TZID=America/Edmonton:20260123T200000
DTSTAMP:20260422T160758
CREATED:20251114T202311Z
LAST-MODIFIED:20260123T172958Z
UID:7367-1769194800-1769198400@www.sylvanlakealc.org
SUMMARY:Friday Bible Study ( CANCELLED )
DESCRIPTION:
URL:https://www.sylvanlakealc.org/event/friday-bible-study-20/
LOCATION:Church
END:VEVENT
BEGIN:VEVENT
DTSTART;TZID=America/Edmonton:20260118T140000
DTEND;TZID=America/Edmonton:20260118T150000
DTSTAMP:20260422T160758
CREATED:20251202T235451Z
LAST-MODIFIED:20251202T235451Z
UID:7399-1768744800-1768748400@www.sylvanlakealc.org
SUMMARY:Bethany service with Stephen Wuori
DESCRIPTION:
URL:https://www.sylvanlakealc.org/event/bethany-service-with-stephen-wuori-3/
LOCATION:Bethany\, 4700 47 Ave\, Sylvan Lake\, Alberta\, T4S 2M3\, Canada
END:VEVENT
BEGIN:VEVENT
DTSTART;TZID=America/Edmonton:20260118T110000
DTEND;TZID=America/Edmonton:20260118T120000
DTSTAMP:20260422T160758
CREATED:20251114T194620Z
LAST-MODIFIED:20251114T194620Z
UID:7333-1768734000-1768737600@www.sylvanlakealc.org
SUMMARY:Sunday worship with Stephen Wuori
DESCRIPTION:
URL:https://www.sylvanlakealc.org/event/sunday-worship-with-stephen-wuori-4/
LOCATION:Church
END:VEVENT
BEGIN:VEVENT
DTSTART;TZID=America/Edmonton:20260117T130000
DTEND;TZID=America/Edmonton:20260117T150000
DTSTAMP:20260422T160758
CREATED:20260111T173856Z
LAST-MODIFIED:20260111T173856Z
UID:7465-1768654800-1768662000@www.sylvanlakealc.org
SUMMARY:Annual Meeting
DESCRIPTION:
URL:https://www.sylvanlakealc.org/event/annual-meeting/
LOCATION:Church
END:VEVENT
BEGIN:VEVENT
DTSTART;TZID=America/Edmonton:20260111T123000
DTEND;TZID=America/Edmonton:20260111T153000
DTSTAMP:20260422T160758
CREATED:20251114T201343Z
LAST-MODIFIED:20251114T201343Z
UID:7360-1768134600-1768145400@www.sylvanlakealc.org
SUMMARY:Pot Luck Lunch after the morning service
DESCRIPTION:
URL:https://www.sylvanlakealc.org/event/pot-luck-lunch-after-the-morning-service-7/
LOCATION:Church
END:VEVENT
BEGIN:VEVENT
DTSTART;TZID=America/Edmonton:20260111T110000
DTEND;TZID=America/Edmonton:20260111T120000
DTSTAMP:20260422T160758
CREATED:20251114T194442Z
LAST-MODIFIED:20251114T201801Z
UID:7331-1768129200-1768132800@www.sylvanlakealc.org
SUMMARY:Communion Sunday with Stephen Wuori
DESCRIPTION:
URL:https://www.sylvanlakealc.org/event/communion-service-with-stephen-wuori/
LOCATION:Church
END:VEVENT
BEGIN:VEVENT
DTSTART;TZID=America/Edmonton:20260104T110000
DTEND;TZID=America/Edmonton:20260104T120000
DTSTAMP:20260422T160758
CREATED:20251114T195601Z
LAST-MODIFIED:20251231T184133Z
UID:7342-1767524400-1767528000@www.sylvanlakealc.org
SUMMARY:Sunday worship with Jordan Staudinger
DESCRIPTION:
URL:https://www.sylvanlakealc.org/event/sunday-worship-with-8/
LOCATION:Church
END:VEVENT
BEGIN:VEVENT
DTSTART;VALUE=DATE:20260101
DTEND;VALUE=DATE:20260102
DTSTAMP:20260422T160758
CREATED:20251201T191807Z
LAST-MODIFIED:20251201T191807Z
UID:7396-1767225600-1767311999@www.sylvanlakealc.org
SUMMARY:New Years Day
DESCRIPTION:
URL:https://www.sylvanlakealc.org/event/new-years-day/
END:VEVENT
BEGIN:VEVENT
DTSTART;TZID=America/Edmonton:20251228T110000
DTEND;TZID=America/Edmonton:20251228T120000
DTSTAMP:20260422T160758
CREATED:20251106T033506Z
LAST-MODIFIED:20251106T033506Z
UID:7322-1766919600-1766923200@www.sylvanlakealc.org
SUMMARY:Sunday worship with Neil Hilman
DESCRIPTION:
URL:https://www.sylvanlakealc.org/event/sunday-worship-with-neil-hilman/
LOCATION:Church
END:VEVENT
BEGIN:VEVENT
DTSTART;VALUE=DATE:20251226
DTEND;VALUE=DATE:20251227
DTSTAMP:20260422T160758
CREATED:20250119T002154Z
LAST-MODIFIED:20250119T002154Z
UID:6705-1766707200-1766793599@www.sylvanlakealc.org
SUMMARY:Boxing Day (Canada)
DESCRIPTION:
URL:https://www.sylvanlakealc.org/event/boxing-day-canada-2/
END:VEVENT
END:VCALENDAR