BEGIN:VCALENDAR
VERSION:2.0
PRODID:-//Sylvan Lake Apostolic Lutheran Church - ECPv6.15.17//NONSGML v1.0//EN
CALSCALE:GREGORIAN
METHOD:PUBLISH
X-ORIGINAL-URL:https://www.sylvanlakealc.org
X-WR-CALDESC:Events for Sylvan Lake Apostolic Lutheran Church
REFRESH-INTERVAL;VALUE=DURATION:PT1H
X-Robots-Tag:noindex
X-PUBLISHED-TTL:PT1H
BEGIN:VTIMEZONE
TZID:America/Edmonton
BEGIN:DAYLIGHT
TZOFFSETFROM:-0700
TZOFFSETTO:-0600
TZNAME:MDT
DTSTART:20250309T090000
END:DAYLIGHT
BEGIN:STANDARD
TZOFFSETFROM:-0600
TZOFFSETTO:-0700
TZNAME:MST
DTSTART:20251102T080000
END:STANDARD
BEGIN:DAYLIGHT
TZOFFSETFROM:-0700
TZOFFSETTO:-0600
TZNAME:MDT
DTSTART:20260308T090000
END:DAYLIGHT
BEGIN:STANDARD
TZOFFSETFROM:-0600
TZOFFSETTO:-0700
TZNAME:MST
DTSTART:20261101T080000
END:STANDARD
BEGIN:DAYLIGHT
TZOFFSETFROM:-0700
TZOFFSETTO:-0600
TZNAME:MDT
DTSTART:20270314T090000
END:DAYLIGHT
BEGIN:STANDARD
TZOFFSETFROM:-0600
TZOFFSETTO:-0700
TZNAME:MST
DTSTART:20271107T080000
END:STANDARD
END:VTIMEZONE
BEGIN:VEVENT
DTSTART;VALUE=DATE:20260308
DTEND;VALUE=DATE:20260309
DTSTAMP:20260422T040607
CREATED:20260113T010907Z
LAST-MODIFIED:20260113T010907Z
UID:7509-1772928000-1773014399@www.sylvanlakealc.org
SUMMARY:Daylight Saving Time Begins
DESCRIPTION:
URL:https://www.sylvanlakealc.org/event/daylight-saving-time-begins/
END:VEVENT
BEGIN:VEVENT
DTSTART;TZID=America/Edmonton:20260308T100000
DTEND;TZID=America/Edmonton:20260308T110000
DTSTAMP:20260422T040607
CREATED:20250912T193657Z
LAST-MODIFIED:20260114T023246Z
UID:7217-1772964000-1772967600@www.sylvanlakealc.org
SUMMARY:Sunday School and Bible Study
DESCRIPTION:
URL:https://www.sylvanlakealc.org/event/sunday-school-and-bible-study-6/
LOCATION:Church
END:VEVENT
BEGIN:VEVENT
DTSTART;TZID=America/Edmonton:20260308T110000
DTEND;TZID=America/Edmonton:20260308T120000
DTSTAMP:20260422T040607
CREATED:20250218T202346Z
LAST-MODIFIED:20260304T200910Z
UID:6772-1772967600-1772971200@www.sylvanlakealc.org
SUMMARY:Service will be Streamed. Communion Conducted by Tom McCluskey
DESCRIPTION:
URL:https://www.sylvanlakealc.org/event/communion-sunday-worship/
END:VEVENT
BEGIN:VEVENT
DTSTART;TZID=America/Edmonton:20260308T123000
DTEND;TZID=America/Edmonton:20260308T160000
DTSTAMP:20260422T040607
CREATED:20250101T180956Z
LAST-MODIFIED:20260119T022218Z
UID:6666-1772973000-1772985600@www.sylvanlakealc.org
SUMMARY:Pot Luck Lunch after the morning service
DESCRIPTION:
URL:https://www.sylvanlakealc.org/event/pot-luck-lunch-after-the-morning-service-4/
LOCATION:Church
END:VEVENT
END:VCALENDAR