BEGIN:VCALENDAR
VERSION:2.0
PRODID:-//Sylvan Lake Apostolic Lutheran Church - ECPv6.15.17//NONSGML v1.0//EN
CALSCALE:GREGORIAN
METHOD:PUBLISH
X-ORIGINAL-URL:https://www.sylvanlakealc.org
X-WR-CALDESC:Events for Sylvan Lake Apostolic Lutheran Church
REFRESH-INTERVAL;VALUE=DURATION:PT1H
X-Robots-Tag:noindex
X-PUBLISHED-TTL:PT1H
BEGIN:VTIMEZONE
TZID:America/Edmonton
BEGIN:DAYLIGHT
TZOFFSETFROM:-0700
TZOFFSETTO:-0600
TZNAME:MDT
DTSTART:20250309T090000
END:DAYLIGHT
BEGIN:STANDARD
TZOFFSETFROM:-0600
TZOFFSETTO:-0700
TZNAME:MST
DTSTART:20251102T080000
END:STANDARD
BEGIN:DAYLIGHT
TZOFFSETFROM:-0700
TZOFFSETTO:-0600
TZNAME:MDT
DTSTART:20260308T090000
END:DAYLIGHT
BEGIN:STANDARD
TZOFFSETFROM:-0600
TZOFFSETTO:-0700
TZNAME:MST
DTSTART:20261101T080000
END:STANDARD
BEGIN:DAYLIGHT
TZOFFSETFROM:-0700
TZOFFSETTO:-0600
TZNAME:MDT
DTSTART:20270314T090000
END:DAYLIGHT
BEGIN:STANDARD
TZOFFSETFROM:-0600
TZOFFSETTO:-0700
TZNAME:MST
DTSTART:20271107T080000
END:STANDARD
END:VTIMEZONE
BEGIN:VEVENT
DTSTART;TZID=America/Edmonton:20260118T110000
DTEND;TZID=America/Edmonton:20260118T120000
DTSTAMP:20260422T070912
CREATED:20251114T194620Z
LAST-MODIFIED:20251114T194620Z
UID:7333-1768734000-1768737600@www.sylvanlakealc.org
SUMMARY:Sunday worship with Stephen Wuori
DESCRIPTION:
URL:https://www.sylvanlakealc.org/event/sunday-worship-with-stephen-wuori-4/
LOCATION:Church
END:VEVENT
BEGIN:VEVENT
DTSTART;TZID=America/Edmonton:20260118T140000
DTEND;TZID=America/Edmonton:20260118T150000
DTSTAMP:20260422T070912
CREATED:20251202T235451Z
LAST-MODIFIED:20251202T235451Z
UID:7399-1768744800-1768748400@www.sylvanlakealc.org
SUMMARY:Bethany service with Stephen Wuori
DESCRIPTION:
URL:https://www.sylvanlakealc.org/event/bethany-service-with-stephen-wuori-3/
LOCATION:Bethany\, 4700 47 Ave\, Sylvan Lake\, Alberta\, T4S 2M3\, Canada
END:VEVENT
END:VCALENDAR